BEGIN:VCALENDAR
VERSION:2.0
PRODID:-//Theater ik&#039;s - ECPv5.16.4//NONSGML v1.0//EN
CALSCALE:GREGORIAN
METHOD:PUBLISH
X-WR-CALNAME:Theater ik&#039;s
X-ORIGINAL-URL:https://theater-iks.de
X-WR-CALDESC:Veranstaltungen für Theater ik&#039;s
BEGIN:VTIMEZONE
TZID:Europe/Berlin
BEGIN:DAYLIGHT
TZOFFSETFROM:+0100
TZOFFSETTO:+0200
TZNAME:CEST
DTSTART:20190331T010000
END:DAYLIGHT
BEGIN:STANDARD
TZOFFSETFROM:+0200
TZOFFSETTO:+0100
TZNAME:CET
DTSTART:20191027T010000
END:STANDARD
END:VTIMEZONE
BEGIN:VEVENT
DTSTART;TZID=Europe/Berlin:20190125T190000
DTEND;TZID=Europe/Berlin:20190125T220000
DTSTAMP:20260423T105912
CREATED:20190103T144355Z
LAST-MODIFIED:20190103T144355Z
UID:779-1548442800-1548453600@theater-iks.de
SUMMARY:Mord in der Haifischbar
DESCRIPTION:Hamburg-St. Pauli im Jahre 1965: In der Haifischbar wird gesungen\, getanzt und gefeiert. Man findet in dieser Kneipe eine Rosenverkäuferin\, Seemänner\, leichte Mädchen\, eine dicke singende Barfrau und zwielichtige Herren. Mitten in dem turbulenten Treiben wird der Zuhälter Danzinger erdrosselt. War es seine „Freundin“ Moni? Oder steckt etwa der Wirt Hugo dahinter? Und wieso schaut die Rosenverkäuferin so unschuldig? Gott sei Dank kommt Wachtmeister Lothar zur rechten Zeit in die Haifischbar. Ein Dinner-Krimi mit viel Hamburger Hafenluft\, Rock ’n’ Roll und wahrer Liebe!
URL:https://theater-iks.de/kalender/mord-in-der-haifischbar-52/
LOCATION:Restaurant Schlossküche Herrenhausen\, Alte Herrenhäuser Str. 3\, Hannover\, 30419\, Deutschland
ATTACH;FMTTYPE=image/jpeg:https://theater-iks.de/wp-content/uploads/IKS_Box_Haifischbar-e1706792749631.jpg
END:VEVENT
END:VCALENDAR