BEGIN:VCALENDAR
VERSION:2.0
PRODID:-//Theater ik&#039;s - ECPv5.16.4//NONSGML v1.0//EN
CALSCALE:GREGORIAN
METHOD:PUBLISH
X-WR-CALNAME:Theater ik&#039;s
X-ORIGINAL-URL:https://theater-iks.de
X-WR-CALDESC:Veranstaltungen für Theater ik&#039;s
BEGIN:VTIMEZONE
TZID:Europe/Berlin
BEGIN:DAYLIGHT
TZOFFSETFROM:+0100
TZOFFSETTO:+0200
TZNAME:CEST
DTSTART:20190331T010000
END:DAYLIGHT
BEGIN:STANDARD
TZOFFSETFROM:+0200
TZOFFSETTO:+0100
TZNAME:CET
DTSTART:20191027T010000
END:STANDARD
END:VTIMEZONE
BEGIN:VEVENT
DTSTART;TZID=Europe/Berlin:20190525T100000
DTEND;TZID=Europe/Berlin:20190525T180000
DTSTAMP:20260425T124309
CREATED:20190502T081422Z
LAST-MODIFIED:20190502T081422Z
UID:983-1558778400-1558807200@theater-iks.de
SUMMARY:Die Schnattertanten – rette sich\, wer kann!
DESCRIPTION:Diese alten Damen mischen sich wirklich überall ein. Ob auf der Straße („Radfahren ist hier verboten!“)\, im Café („Wir haben hier reserviert!“) oder eben auf Ihrer Veranstaltung. Wenn Edelgard Wohlrabe oder Bertha Kirchner aufkreuzen\, bleibt nichts mehr\, wie es war. Dabei können sich die Tanten eigentlich nicht ausstehen. Plötzlich sind Sie Liebhaber\, Heiratsschwindler\, die beste Freundin oder sogar die Widersacherin. Werden Sie Zeuge und Opfer der absurden Geschichten aus dem prallen Leben\, immer hart an der Wirklichkeit vorbei\, improvisiert und trotzdem skurril und liebenswürdig.
URL:https://theater-iks.de/kalender/die-schnattertanten-rette-sich-wer-kann-4/
LOCATION:Landmarkt im LandPark\, Wildpark 1\, Lauenbrück\, 27389\, Deutschland
ATTACH;FMTTYPE=image/jpeg:https://theater-iks.de/wp-content/uploads/IKS_Schnattertanten_1x1.jpg
END:VEVENT
END:VCALENDAR