BEGIN:VCALENDAR
VERSION:2.0
PRODID:-//Theater ik&#039;s - ECPv5.16.4//NONSGML v1.0//EN
CALSCALE:GREGORIAN
METHOD:PUBLISH
X-WR-CALNAME:Theater ik&#039;s
X-ORIGINAL-URL:https://theater-iks.de
X-WR-CALDESC:Veranstaltungen für Theater ik&#039;s
BEGIN:VTIMEZONE
TZID:Europe/Berlin
BEGIN:DAYLIGHT
TZOFFSETFROM:+0100
TZOFFSETTO:+0200
TZNAME:CEST
DTSTART:20200329T010000
END:DAYLIGHT
BEGIN:STANDARD
TZOFFSETFROM:+0200
TZOFFSETTO:+0100
TZNAME:CET
DTSTART:20201025T010000
END:STANDARD
END:VTIMEZONE
BEGIN:VEVENT
DTSTART;TZID=Europe/Berlin:20201120T190000
DTEND;TZID=Europe/Berlin:20201120T220000
DTSTAMP:20260425T123608
CREATED:20200130T044137Z
LAST-MODIFIED:20200130T044137Z
UID:1277-1605898800-1605909600@theater-iks.de
SUMMARY:Das Comeback der Snyders
DESCRIPTION:Das Leben kann sehr gefährlich sein! In diesem Fall zumindest für den Theaterkritiker Karl-Maria von Kratzek. Er hätte sich allerdings keinen schöneren Tod vorstellen können. Doch wer ist der Mörder? Ist es der korrekte\, hintersinnige Butler? Ist es die naive Kellnerin Uschi Blondmeier? Oder sind es die ehemaligen Showgrößen Deed und Peggy Snyder\, die sich ihr Comeback nicht von einem Kritiker verderben lassen wollten? Ein absolutes Muss für alle Krimi-Fans!
URL:https://theater-iks.de/kalender/das-comeback-der-snyders-18/
LOCATION:Schlossgut Groß Schwansee\, Am Park 1\, Kalkhorst\, 23942\, Deutschland
ATTACH;FMTTYPE=image/jpeg:https://theater-iks.de/wp-content/uploads/IKS_Box_Snyders1.jpg
END:VEVENT
END:VCALENDAR