BEGIN:VCALENDAR
VERSION:2.0
PRODID:-//Theater ik&#039;s - ECPv5.16.4//NONSGML v1.0//EN
CALSCALE:GREGORIAN
METHOD:PUBLISH
X-WR-CALNAME:Theater ik&#039;s
X-ORIGINAL-URL:https://theater-iks.de
X-WR-CALDESC:Veranstaltungen für Theater ik&#039;s
BEGIN:VTIMEZONE
TZID:Europe/Berlin
BEGIN:DAYLIGHT
TZOFFSETFROM:+0100
TZOFFSETTO:+0200
TZNAME:CEST
DTSTART:20200329T010000
END:DAYLIGHT
BEGIN:STANDARD
TZOFFSETFROM:+0200
TZOFFSETTO:+0100
TZNAME:CET
DTSTART:20201025T010000
END:STANDARD
END:VTIMEZONE
BEGIN:VEVENT
DTSTART;TZID=Europe/Berlin:20200502T190000
DTEND;TZID=Europe/Berlin:20200502T220000
DTSTAMP:20260423T105311
CREATED:20200130T041342Z
LAST-MODIFIED:20200130T041342Z
UID:1273-1588446000-1588456800@theater-iks.de
SUMMARY:Mord in der Haifischbar II
DESCRIPTION:Hamburg\, St.Pauli im Jahre 1975: In der Haifischbar wird gesungen\, getanzt und gefeiert. Man findet in dieser Kneipe Seemaenner\, spanische Kellner\, einen Polizisten und gleichzeitig verschmaehten Liebhaber\, ein ehemals leichtes Maedchen\, eine dicke singende Barfrau und zwielichtige Absichten. Mitten in dem turbulenten Treiben faellt die Barfrau Hermine tot um. Was ist passiert? Wer steckt dahinter? War es seine Freundin Moni? Oder steckt etwa der Sohn von Moni dahinter? Und wieso schaut Moni so unschuldig. Wachtmeister a.D. Lothar kommt zur rechten Zeit in die Haifischbar und sorgt fuer Aufklaerung zusammen mit dem Publikum. Ein Comedy-Krimi mit viel Witz\, Gesang und Unterhaltung und sehr viel Hamburger Hafenluft\, Rock’n Roll und wahrer Liebe!
URL:https://theater-iks.de/kalender/mord-in-der-haifischbar-ii-9/
LOCATION:Lepsy’s Das Fischrestaurant\, Bahnstraße 62\, Willich\, 47877\, Deutschland
ATTACH;FMTTYPE=image/png:https://theater-iks.de/wp-content/uploads/Lothar-und-Ilse-Haifischbar-2-Generalprobe-16.10.2018-Theater-Iks-e1567175209446.png
END:VEVENT
END:VCALENDAR