BEGIN:VCALENDAR
VERSION:2.0
PRODID:-//Theater ik&#039;s - ECPv5.16.4//NONSGML v1.0//EN
CALSCALE:GREGORIAN
METHOD:PUBLISH
X-WR-CALNAME:Theater ik&#039;s
X-ORIGINAL-URL:https://theater-iks.de
X-WR-CALDESC:Veranstaltungen für Theater ik&#039;s
BEGIN:VTIMEZONE
TZID:Europe/Berlin
BEGIN:DAYLIGHT
TZOFFSETFROM:+0100
TZOFFSETTO:+0200
TZNAME:CEST
DTSTART:20190331T010000
END:DAYLIGHT
BEGIN:STANDARD
TZOFFSETFROM:+0200
TZOFFSETTO:+0100
TZNAME:CET
DTSTART:20191027T010000
END:STANDARD
END:VTIMEZONE
BEGIN:VEVENT
DTSTART;TZID=Europe/Berlin:20191129T190000
DTEND;TZID=Europe/Berlin:20191129T220000
DTSTAMP:20260425T121834
CREATED:20191021T222946Z
LAST-MODIFIED:20191021T222946Z
UID:1168-1575054000-1575064800@theater-iks.de
SUMMARY:Mord an der Hochzeitstorte
DESCRIPTION:Noch ganz frisch aus der Feder\, und wieder gespickt mit jeder Menge Skurrilität\, Musik und Humor. Dieses Mal dreht sich alles um eine Trauung\, die einen anderen Verlauf nimmt als geplant. Das fängt schon damit an\, dass die Braut nicht so will wie der romantische Bräutigam – der erste Ehekrach ist vorprogrammiert. Natürlich sehr zur Freude der anwesenden Schwiegermutter\, die liebend gern ihren Senf dazugibt. Der Hochzeitsplaner Monsieur Pierre hat vieles im Griff\, diese Hochzeit gehört nicht dazu. Das Anschneiden der Hochzeitstorte soll das durchwachsene Fest retten. Doch als das gewollt-harmonische Paar die Torte anschneiden will\, hört man einen lauten Knall\, und es stirbt …? Lassen Sie sich überraschen!
URL:https://theater-iks.de/kalender/mord-an-der-hochzeitstorte-8/
LOCATION:Chili Event House\, Breitenburger Weg\, Oelixdorf\, Schleswig-Holstein\, 25524\, Deutschland
ATTACH;FMTTYPE=image/jpeg:https://theater-iks.de/wp-content/uploads/IKS_Box_Hochzeitstorte.jpg
END:VEVENT
END:VCALENDAR