BEGIN:VCALENDAR
VERSION:2.0
PRODID:-//Theater ik&#039;s - ECPv5.16.4//NONSGML v1.0//EN
CALSCALE:GREGORIAN
METHOD:PUBLISH
X-WR-CALNAME:Theater ik&#039;s
X-ORIGINAL-URL:https://theater-iks.de
X-WR-CALDESC:Veranstaltungen für Theater ik&#039;s
BEGIN:VTIMEZONE
TZID:Europe/Berlin
BEGIN:DAYLIGHT
TZOFFSETFROM:+0100
TZOFFSETTO:+0200
TZNAME:CEST
DTSTART:20190331T010000
END:DAYLIGHT
BEGIN:STANDARD
TZOFFSETFROM:+0200
TZOFFSETTO:+0100
TZNAME:CET
DTSTART:20191027T010000
END:STANDARD
END:VTIMEZONE
BEGIN:VEVENT
DTSTART;TZID=Europe/Berlin:20191128T190000
DTEND;TZID=Europe/Berlin:20191128T220000
DTSTAMP:20260425T122807
CREATED:20191021T225717Z
LAST-MODIFIED:20191021T225717Z
UID:1189-1574967600-1574978400@theater-iks.de
SUMMARY:Butler Johann / Schnattertanten / Hans-Walther
DESCRIPTION:
URL:https://theater-iks.de/kalender/butler-johann-schnattertanten-hans-walther-3/
LOCATION:Fielmann – Ihr Optiker in Stralsund\, Ossenreyerstraße 49 a\,\, Stralsund\, 18439
ATTACH;FMTTYPE=image/jpeg:https://theater-iks.de/wp-content/uploads/IKS_Schnattertanten_1x1.jpg
END:VEVENT
END:VCALENDAR