BEGIN:VCALENDAR
VERSION:2.0
PRODID:-//Theater ik&#039;s - ECPv5.16.4//NONSGML v1.0//EN
CALSCALE:GREGORIAN
METHOD:PUBLISH
X-WR-CALNAME:Theater ik&#039;s
X-ORIGINAL-URL:https://theater-iks.de
X-WR-CALDESC:Veranstaltungen für Theater ik&#039;s
BEGIN:VTIMEZONE
TZID:Europe/Berlin
BEGIN:DAYLIGHT
TZOFFSETFROM:+0100
TZOFFSETTO:+0200
TZNAME:CEST
DTSTART:20190331T010000
END:DAYLIGHT
BEGIN:STANDARD
TZOFFSETFROM:+0200
TZOFFSETTO:+0100
TZNAME:CET
DTSTART:20191027T010000
END:STANDARD
END:VTIMEZONE
BEGIN:VEVENT
DTSTART;TZID=Europe/Berlin:20190223T190000
DTEND;TZID=Europe/Berlin:20190223T220000
DTSTAMP:20260425T121747
CREATED:20190103T155742Z
LAST-MODIFIED:20190103T155742Z
UID:802-1550948400-1550959200@theater-iks.de
SUMMARY:Mord in der Haifischbar
DESCRIPTION:Hamburg-St. Pauli im Jahre 1965: In der Haifischbar wird gesungen\, getanzt und gefeiert. Man findet in dieser Kneipe eine Rosenverkäuferin\, Seemänner\, leichte Mädchen\, eine dicke singende Barfrau und zwielichtige Herren. Mitten in dem turbulenten Treiben wird der Zuhälter Danzinger erdrosselt. War es seine „Freundin“ Moni? Oder steckt etwa der Wirt Hugo dahinter? Und wieso schaut die Rosenverkäuferin so unschuldig? Gott sei Dank kommt Wachtmeister Lothar zur rechten Zeit in die Haifischbar. Ein Dinner-Krimi mit viel Hamburger Hafenluft\, Rock ’n’ Roll und wahrer Liebe!
URL:https://theater-iks.de/kalender/mord-in-der-haifischbar-61/
LOCATION:Landhotel am Rothenberg\, Rothenbergstraße 4\, Uslar\, 37170\, Deutschland
ATTACH;FMTTYPE=image/jpeg:https://theater-iks.de/wp-content/uploads/IKS_Box_Haifischbar-e1706792749631.jpg
END:VEVENT
BEGIN:VEVENT
DTSTART;TZID=Europe/Berlin:20190223T190000
DTEND;TZID=Europe/Berlin:20190223T220000
DTSTAMP:20260425T121747
CREATED:20190103T155945Z
LAST-MODIFIED:20190103T155945Z
UID:805-1550948400-1550959200@theater-iks.de
SUMMARY:Mord in der Haifischbar
DESCRIPTION:Hamburg-St. Pauli im Jahre 1965: In der Haifischbar wird gesungen\, getanzt und gefeiert. Man findet in dieser Kneipe eine Rosenverkäuferin\, Seemänner\, leichte Mädchen\, eine dicke singende Barfrau und zwielichtige Herren. Mitten in dem turbulenten Treiben wird der Zuhälter Danzinger erdrosselt. War es seine „Freundin“ Moni? Oder steckt etwa der Wirt Hugo dahinter? Und wieso schaut die Rosenverkäuferin so unschuldig? Gott sei Dank kommt Wachtmeister Lothar zur rechten Zeit in die Haifischbar. Ein Dinner-Krimi mit viel Hamburger Hafenluft\, Rock ’n’ Roll und wahrer Liebe!
URL:https://theater-iks.de/kalender/mord-in-der-haifischbar-62/
LOCATION:Vier Jahreszeiten Lübeck\, Bei der Lohmühle 27\, Lübeck\, Schleswig-Holstein\, 23554\, Deutschland
ATTACH;FMTTYPE=image/jpeg:https://theater-iks.de/wp-content/uploads/IKS_Box_Haifischbar-e1706792749631.jpg
END:VEVENT
BEGIN:VEVENT
DTSTART;TZID=Europe/Berlin:20190223T190000
DTEND;TZID=Europe/Berlin:20190223T220000
DTSTAMP:20260425T121747
CREATED:20190104T093611Z
LAST-MODIFIED:20190104T093611Z
UID:935-1550948400-1550959200@theater-iks.de
SUMMARY:Das Comeback der Snyders II
DESCRIPTION:Peggy Snyder ist wieder da! Nachdem sie unter dubiosen und kriminellen Umständen in „Das Comeback der Snyders\, Teil I“ von ihrem Mann – Deed Snyder – verlassen wurde\, ist sie mit neuem Management und neuem Image wieder „on stage“. Alles läuft zunächst so\, wie es Peggys neue Managerin Ludmilla Ludmillaskajawic geplant hat. Bis Ronald Kaisserle (Peggys größter Fan) versucht\, die Regie zu übernehmen. Aber nicht nur Kaiserle will das Herz von Peggy erobern\, sondern auch eine merkwürdige Gestalt aus dem Publikum. Wer wird Peggy retten: Ihre Managerin\, Kommissar Craddock\, Ronald Kaiserle oder gar ihr verschollener Ehemann Deed Snyder? Und vor allen Dingen: Wer muss sterben? „Das Comeback der Synders\, Teil II“ ist die Fortsetzung des überaus erfolgreichen ersten Teils. Wieder mit viel Witz\, Spannung und Gesang.
URL:https://theater-iks.de/kalender/das-comeback-der-snyders-ii-4/
LOCATION:Van der Valk\, Am Drewitzer See 1\, Nossentiner Hütt\, Sachsen-Anhalt\, 17214\, Deutschland
ATTACH;FMTTYPE=image/jpeg:https://theater-iks.de/wp-content/uploads/IKS_Box_Snyders2.jpg
END:VEVENT
END:VCALENDAR